BEGIN:VCALENDAR
PRODID:iCalendar-Ruby
VERSION:2.0
X-WR-TIMEZONE:America/New_York
BEGIN:VTIMEZONE
TZID:America/New_York
X-LIC-LOCATION:America/New_York
BEGIN:STANDARD
DTSTART:20241103T020000
RRULE:FREQ=YEARLY;BYDAY=1SU;BYMONTH=11
TZNAME:EST
TZOFFSETFROM:-0400
TZOFFSETTO:-0500
END:STANDARD
BEGIN:DAYLIGHT
DTSTART:20250309T020000
RRULE:FREQ=YEARLY;BYDAY=2SU;BYMONTH=3
TZNAME:EDT
TZOFFSETFROM:-0500
TZOFFSETTO:-0400
END:DAYLIGHT
END:VTIMEZONE
BEGIN:VEVENT
DESCRIPTION: https://www.oxfordboro.org/calendar.aspx?EID=932
DTEND;TZID=America/New_York:20261225T180000
DTSTAMP;TZID=America/New_York:20260213T155950
DTSTART;TZID=America/New_York:20261225T080000
LAST-MODIFIED;TZID=America/New_York:20260213T155950
LOCATION: -   Oxford PA 19363
SEQUENCE:0
SUMMARY:BOROUGH OFFICES CLOSED
UID:932
URL:/common/modules/iCalendar/iCalendar.aspx?feed=calendar&catID=24
END:VEVENT
BEGIN:VEVENT
DESCRIPTION: https://www.oxfordboro.org/calendar.aspx?EID=931
DTEND;TZID=America/New_York:20261127T180000
DTSTAMP;TZID=America/New_York:20260213T155925
DTSTART;TZID=America/New_York:20261126T080000
LAST-MODIFIED;TZID=America/New_York:20260213T155925
LOCATION: -   Oxford PA 19363
SEQUENCE:0
SUMMARY:BOROUGH OFFICES CLOSED
UID:931
URL:/common/modules/iCalendar/iCalendar.aspx?feed=calendar&catID=24
END:VEVENT
BEGIN:VEVENT
DESCRIPTION: https://www.oxfordboro.org/calendar.aspx?EID=930
DTEND;TZID=America/New_York:20261111T180000
DTSTAMP;TZID=America/New_York:20260213T155854
DTSTART;TZID=America/New_York:20261111T080000
LAST-MODIFIED;TZID=America/New_York:20260213T155854
LOCATION: -   Oxford PA 19363
SEQUENCE:0
SUMMARY:BOROUGH OFFICES CLOSED
UID:930
URL:/common/modules/iCalendar/iCalendar.aspx?feed=calendar&catID=24
END:VEVENT
BEGIN:VEVENT
DESCRIPTION: https://www.oxfordboro.org/calendar.aspx?EID=929
DTEND;TZID=America/New_York:20260907T180000
DTSTAMP;TZID=America/New_York:20260213T155822
DTSTART;TZID=America/New_York:20260907T080000
LAST-MODIFIED;TZID=America/New_York:20260213T155822
LOCATION: -   Oxford PA 19363
SEQUENCE:0
SUMMARY:BOROUGH OFFICES CLOSED
UID:929
URL:/common/modules/iCalendar/iCalendar.aspx?feed=calendar&catID=24
END:VEVENT
BEGIN:VEVENT
DESCRIPTION: https://www.oxfordboro.org/calendar.aspx?EID=928
DTEND;TZID=America/New_York:20260703T180000
DTSTAMP;TZID=America/New_York:20260213T155731
DTSTART;TZID=America/New_York:20260703T080000
LAST-MODIFIED;TZID=America/New_York:20260213T155731
LOCATION: -   Oxford PA 19363
SEQUENCE:0
SUMMARY:BOROUGH OFFICES CLOSED
UID:928
URL:/common/modules/iCalendar/iCalendar.aspx?feed=calendar&catID=24
END:VEVENT
BEGIN:VEVENT
DESCRIPTION: https://www.oxfordboro.org/calendar.aspx?EID=927
DTEND;TZID=America/New_York:20260525T180000
DTSTAMP;TZID=America/New_York:20260213T155659
DTSTART;TZID=America/New_York:20260525T080000
LAST-MODIFIED;TZID=America/New_York:20260213T155659
LOCATION: -   Oxford PA 19363
SEQUENCE:0
SUMMARY:BOROUGH OFFICES CLOSED
UID:927
URL:/common/modules/iCalendar/iCalendar.aspx?feed=calendar&catID=24
END:VEVENT
END:VCALENDAR
