BEGIN:VCALENDAR
PRODID:iCalendar-Ruby
VERSION:2.0
X-WR-TIMEZONE:America/New_York
BEGIN:VTIMEZONE
TZID:America/New_York
X-LIC-LOCATION:America/New_York
BEGIN:STANDARD
DTSTART:20241103T020000
RRULE:FREQ=YEARLY;BYDAY=1SU;BYMONTH=11
TZNAME:EST
TZOFFSETFROM:-0400
TZOFFSETTO:-0500
END:STANDARD
BEGIN:DAYLIGHT
DTSTART:20250309T020000
RRULE:FREQ=YEARLY;BYDAY=2SU;BYMONTH=3
TZNAME:EDT
TZOFFSETFROM:-0500
TZOFFSETTO:-0400
END:DAYLIGHT
END:VTIMEZONE
BEGIN:VEVENT
DESCRIPTION: https://www.oxfordboro.org/calendar.aspx?EID=910
DTEND;TZID=America/New_York:20261228T235900
DTSTAMP;TZID=America/New_York:20260211T165118
DTSTART;TZID=America/New_York:20261228T173000
LAST-MODIFIED;TZID=America/New_York:20260211T165118
LOCATION: -   Oxford PA 19363
SEQUENCE:0
SUMMARY:Parking Committee
UID:910
URL:/common/modules/iCalendar/iCalendar.aspx?feed=calendar&catID=14
END:VEVENT
BEGIN:VEVENT
DESCRIPTION: https://www.oxfordboro.org/calendar.aspx?EID=865
DTEND;TZID=America/New_York:20261222T235900
DTSTAMP;TZID=America/New_York:20260123T183905
DTSTART;TZID=America/New_York:20261222T183000
LAST-MODIFIED;TZID=America/New_York:20260123T183905
LOCATION: -   Oxford PA 19363
SEQUENCE:0
SUMMARY:Planning Commission
UID:865
URL:/common/modules/iCalendar/iCalendar.aspx?feed=calendar&catID=14
END:VEVENT
BEGIN:VEVENT
DESCRIPTION: https://www.oxfordboro.org/calendar.aspx?EID=899
DTEND;TZID=America/New_York:20261214T235900
DTSTAMP;TZID=America/New_York:20260211T165033
DTSTART;TZID=America/New_York:20261214T173000
LAST-MODIFIED;TZID=America/New_York:20260211T165033
LOCATION: -   Oxford PA 19363
SEQUENCE:0
SUMMARY:Parking Committee
UID:899
URL:/common/modules/iCalendar/iCalendar.aspx?feed=calendar&catID=14
END:VEVENT
BEGIN:VEVENT
DESCRIPTION: https://www.oxfordboro.org/calendar.aspx?EID=924
DTEND;TZID=America/New_York:20261209T235900
DTSTAMP;TZID=America/New_York:20260213T155210
DTSTART;TZID=America/New_York:20261209T190000
LAST-MODIFIED;TZID=America/New_York:20260213T155210
LOCATION: -   Oxford PA 19363
SEQUENCE:0
SUMMARY:Finance Committee Meeting
UID:924
URL:/common/modules/iCalendar/iCalendar.aspx?feed=calendar&catID=14
END:VEVENT
BEGIN:VEVENT
DESCRIPTION: https://www.oxfordboro.org/calendar.aspx?EID=942
DTEND;TZID=America/New_York:20261209T235900
DTSTAMP;TZID=America/New_York:20260311T145403
DTSTART;TZID=America/New_York:20261209T160000
LAST-MODIFIED;TZID=America/New_York:20260311T145403
LOCATION: -   Oxford PA 19363
SEQUENCE:0
SUMMARY:Historical Architectural Review Board (HARB)
UID:942
URL:/common/modules/iCalendar/iCalendar.aspx?feed=calendar&catID=14
END:VEVENT
BEGIN:VEVENT
DESCRIPTION: https://www.oxfordboro.org/calendar.aspx?EID=864
DTEND;TZID=America/New_York:20261124T235900
DTSTAMP;TZID=America/New_York:20260123T183905
DTSTART;TZID=America/New_York:20261124T183000
LAST-MODIFIED;TZID=America/New_York:20260123T183905
LOCATION: -   Oxford PA 19363
SEQUENCE:0
SUMMARY:Planning Commission
UID:864
URL:/common/modules/iCalendar/iCalendar.aspx?feed=calendar&catID=14
END:VEVENT
BEGIN:VEVENT
DESCRIPTION: https://www.oxfordboro.org/calendar.aspx?EID=909
DTEND;TZID=America/New_York:20261123T235900
DTSTAMP;TZID=America/New_York:20260211T165118
DTSTART;TZID=America/New_York:20261123T173000
LAST-MODIFIED;TZID=America/New_York:20260211T165118
LOCATION: -   Oxford PA 19363
SEQUENCE:0
SUMMARY:Parking Committee
UID:909
URL:/common/modules/iCalendar/iCalendar.aspx?feed=calendar&catID=14
END:VEVENT
BEGIN:VEVENT
DESCRIPTION: https://www.oxfordboro.org/calendar.aspx?EID=923
DTEND;TZID=America/New_York:20261118T235900
DTSTAMP;TZID=America/New_York:20260213T155151
DTSTART;TZID=America/New_York:20261118T190000
LAST-MODIFIED;TZID=America/New_York:20260213T155151
LOCATION: -   Oxford PA 19363
SEQUENCE:0
SUMMARY:Finance Committee Meeting
UID:923
URL:/common/modules/iCalendar/iCalendar.aspx?feed=calendar&catID=14
END:VEVENT
BEGIN:VEVENT
DESCRIPTION: https://www.oxfordboro.org/calendar.aspx?EID=941
DTEND;TZID=America/New_York:20261111T235900
DTSTAMP;TZID=America/New_York:20260311T145403
DTSTART;TZID=America/New_York:20261111T160000
LAST-MODIFIED;TZID=America/New_York:20260311T145403
LOCATION: -   Oxford PA 19363
SEQUENCE:0
SUMMARY:Historical Architectural Review Board (HARB)
UID:941
URL:/common/modules/iCalendar/iCalendar.aspx?feed=calendar&catID=14
END:VEVENT
BEGIN:VEVENT
DESCRIPTION: https://www.oxfordboro.org/calendar.aspx?EID=898
DTEND;TZID=America/New_York:20261109T235900
DTSTAMP;TZID=America/New_York:20260211T165033
DTSTART;TZID=America/New_York:20261109T173000
LAST-MODIFIED;TZID=America/New_York:20260211T165033
LOCATION: -   Oxford PA 19363
SEQUENCE:0
SUMMARY:Parking Committee
UID:898
URL:/common/modules/iCalendar/iCalendar.aspx?feed=calendar&catID=14
END:VEVENT
BEGIN:VEVENT
DESCRIPTION: https://www.oxfordboro.org/calendar.aspx?EID=922
DTEND;TZID=America/New_York:20261104T235900
DTSTAMP;TZID=America/New_York:20260213T155136
DTSTART;TZID=America/New_York:20261104T190000
LAST-MODIFIED;TZID=America/New_York:20260213T155136
LOCATION: -   Oxford PA 19363
SEQUENCE:0
SUMMARY:Finance Committee Meeting
UID:922
URL:/common/modules/iCalendar/iCalendar.aspx?feed=calendar&catID=14
END:VEVENT
BEGIN:VEVENT
DESCRIPTION: https://www.oxfordboro.org/calendar.aspx?EID=889
DTEND;TZID=America/New_York:20261102T235900
DTSTAMP;TZID=America/New_York:20260211T164950
DTSTART;TZID=America/New_York:20261102T180000
LAST-MODIFIED;TZID=America/New_York:20260211T164950
LOCATION: -   Oxford PA 19363
SEQUENCE:0
SUMMARY:Police & Public Safety Committee
UID:889
URL:/common/modules/iCalendar/iCalendar.aspx?feed=calendar&catID=14
END:VEVENT
BEGIN:VEVENT
DESCRIPTION: https://www.oxfordboro.org/calendar.aspx?EID=863
DTEND;TZID=America/New_York:20261027T235900
DTSTAMP;TZID=America/New_York:20260123T183905
DTSTART;TZID=America/New_York:20261027T183000
LAST-MODIFIED;TZID=America/New_York:20260123T183905
LOCATION: -   Oxford PA 19363
SEQUENCE:0
SUMMARY:Planning Commission
UID:863
URL:/common/modules/iCalendar/iCalendar.aspx?feed=calendar&catID=14
END:VEVENT
BEGIN:VEVENT
DESCRIPTION: https://www.oxfordboro.org/calendar.aspx?EID=908
DTEND;TZID=America/New_York:20261026T235900
DTSTAMP;TZID=America/New_York:20260211T165118
DTSTART;TZID=America/New_York:20261026T173000
LAST-MODIFIED;TZID=America/New_York:20260211T165118
LOCATION: -   Oxford PA 19363
SEQUENCE:0
SUMMARY:Parking Committee
UID:908
URL:/common/modules/iCalendar/iCalendar.aspx?feed=calendar&catID=14
END:VEVENT
BEGIN:VEVENT
DESCRIPTION: https://www.oxfordboro.org/calendar.aspx?EID=921
DTEND;TZID=America/New_York:20261014T235900
DTSTAMP;TZID=America/New_York:20260213T155112
DTSTART;TZID=America/New_York:20261014T190000
LAST-MODIFIED;TZID=America/New_York:20260213T155112
LOCATION: -   Oxford PA 19363
SEQUENCE:0
SUMMARY:Finance Committee Meeting
UID:921
URL:/common/modules/iCalendar/iCalendar.aspx?feed=calendar&catID=14
END:VEVENT
BEGIN:VEVENT
DESCRIPTION: https://www.oxfordboro.org/calendar.aspx?EID=940
DTEND;TZID=America/New_York:20261014T235900
DTSTAMP;TZID=America/New_York:20260311T145403
DTSTART;TZID=America/New_York:20261014T160000
LAST-MODIFIED;TZID=America/New_York:20260311T145403
LOCATION: -   Oxford PA 19363
SEQUENCE:0
SUMMARY:Historical Architectural Review Board (HARB)
UID:940
URL:/common/modules/iCalendar/iCalendar.aspx?feed=calendar&catID=14
END:VEVENT
BEGIN:VEVENT
DESCRIPTION: https://www.oxfordboro.org/calendar.aspx?EID=897
DTEND;TZID=America/New_York:20261012T235900
DTSTAMP;TZID=America/New_York:20260211T165033
DTSTART;TZID=America/New_York:20261012T173000
LAST-MODIFIED;TZID=America/New_York:20260211T165033
LOCATION: -   Oxford PA 19363
SEQUENCE:0
SUMMARY:Parking Committee
UID:897
URL:/common/modules/iCalendar/iCalendar.aspx?feed=calendar&catID=14
END:VEVENT
BEGIN:VEVENT
DESCRIPTION: https://www.oxfordboro.org/calendar.aspx?EID=888
DTEND;TZID=America/New_York:20261005T235900
DTSTAMP;TZID=America/New_York:20260211T164950
DTSTART;TZID=America/New_York:20261005T180000
LAST-MODIFIED;TZID=America/New_York:20260211T164950
LOCATION: -   Oxford PA 19363
SEQUENCE:0
SUMMARY:Police & Public Safety Committee
UID:888
URL:/common/modules/iCalendar/iCalendar.aspx?feed=calendar&catID=14
END:VEVENT
BEGIN:VEVENT
DESCRIPTION: https://www.oxfordboro.org/calendar.aspx?EID=907
DTEND;TZID=America/New_York:20260928T235900
DTSTAMP;TZID=America/New_York:20260211T165118
DTSTART;TZID=America/New_York:20260928T173000
LAST-MODIFIED;TZID=America/New_York:20260211T165118
LOCATION: -   Oxford PA 19363
SEQUENCE:0
SUMMARY:Parking Committee
UID:907
URL:/common/modules/iCalendar/iCalendar.aspx?feed=calendar&catID=14
END:VEVENT
BEGIN:VEVENT
DESCRIPTION: https://www.oxfordboro.org/calendar.aspx?EID=862
DTEND;TZID=America/New_York:20260922T235900
DTSTAMP;TZID=America/New_York:20260123T183905
DTSTART;TZID=America/New_York:20260922T183000
LAST-MODIFIED;TZID=America/New_York:20260123T183905
LOCATION: -   Oxford PA 19363
SEQUENCE:0
SUMMARY:Planning Commission
UID:862
URL:/common/modules/iCalendar/iCalendar.aspx?feed=calendar&catID=14
END:VEVENT
BEGIN:VEVENT
DESCRIPTION: https://www.oxfordboro.org/calendar.aspx?EID=887
DTEND;TZID=America/New_York:20260914T235900
DTSTAMP;TZID=America/New_York:20260211T165147
DTSTART;TZID=America/New_York:20260914T180000
LAST-MODIFIED;TZID=America/New_York:20260211T165147
LOCATION: -   Oxford PA 19363
SEQUENCE:0
SUMMARY:Police & Public Safety Committee
UID:887
URL:/common/modules/iCalendar/iCalendar.aspx?feed=calendar&catID=14
END:VEVENT
BEGIN:VEVENT
DESCRIPTION: https://www.oxfordboro.org/calendar.aspx?EID=896
DTEND;TZID=America/New_York:20260914T235900
DTSTAMP;TZID=America/New_York:20260211T165033
DTSTART;TZID=America/New_York:20260914T173000
LAST-MODIFIED;TZID=America/New_York:20260211T165033
LOCATION: -   Oxford PA 19363
SEQUENCE:0
SUMMARY:Parking Committee
UID:896
URL:/common/modules/iCalendar/iCalendar.aspx?feed=calendar&catID=14
END:VEVENT
BEGIN:VEVENT
DESCRIPTION: https://www.oxfordboro.org/calendar.aspx?EID=920
DTEND;TZID=America/New_York:20260909T235900
DTSTAMP;TZID=America/New_York:20260213T155051
DTSTART;TZID=America/New_York:20260909T190000
LAST-MODIFIED;TZID=America/New_York:20260213T155051
LOCATION: -   Oxford PA 19363
SEQUENCE:0
SUMMARY:Finance Committee Meeting
UID:920
URL:/common/modules/iCalendar/iCalendar.aspx?feed=calendar&catID=14
END:VEVENT
BEGIN:VEVENT
DESCRIPTION: https://www.oxfordboro.org/calendar.aspx?EID=939
DTEND;TZID=America/New_York:20260909T235900
DTSTAMP;TZID=America/New_York:20260311T145403
DTSTART;TZID=America/New_York:20260909T160000
LAST-MODIFIED;TZID=America/New_York:20260311T145403
LOCATION: -   Oxford PA 19363
SEQUENCE:0
SUMMARY:Historical Architectural Review Board (HARB)
UID:939
URL:/common/modules/iCalendar/iCalendar.aspx?feed=calendar&catID=14
END:VEVENT
BEGIN:VEVENT
DESCRIPTION: https://www.oxfordboro.org/calendar.aspx?EID=861
DTEND;TZID=America/New_York:20260825T235900
DTSTAMP;TZID=America/New_York:20260123T183905
DTSTART;TZID=America/New_York:20260825T183000
LAST-MODIFIED;TZID=America/New_York:20260123T183905
LOCATION: -   Oxford PA 19363
SEQUENCE:0
SUMMARY:Planning Commission
UID:861
URL:/common/modules/iCalendar/iCalendar.aspx?feed=calendar&catID=14
END:VEVENT
BEGIN:VEVENT
DESCRIPTION: https://www.oxfordboro.org/calendar.aspx?EID=906
DTEND;TZID=America/New_York:20260824T235900
DTSTAMP;TZID=America/New_York:20260211T165118
DTSTART;TZID=America/New_York:20260824T173000
LAST-MODIFIED;TZID=America/New_York:20260211T165118
LOCATION: -   Oxford PA 19363
SEQUENCE:0
SUMMARY:Parking Committee
UID:906
URL:/common/modules/iCalendar/iCalendar.aspx?feed=calendar&catID=14
END:VEVENT
BEGIN:VEVENT
DESCRIPTION: https://www.oxfordboro.org/calendar.aspx?EID=880
DTEND;TZID=America/New_York:20260817T235900
DTSTAMP;TZID=America/New_York:20260211T164817
DTSTART;TZID=America/New_York:20260817T190000
LAST-MODIFIED;TZID=America/New_York:20260211T164817
LOCATION: -   Oxford PA 19363
SEQUENCE:0
SUMMARY:Borough Council Meeting
UID:880
URL:/common/modules/iCalendar/iCalendar.aspx?feed=calendar&catID=14
END:VEVENT
BEGIN:VEVENT
DESCRIPTION: https://www.oxfordboro.org/calendar.aspx?EID=919
DTEND;TZID=America/New_York:20260812T235900
DTSTAMP;TZID=America/New_York:20260213T155033
DTSTART;TZID=America/New_York:20260812T190000
LAST-MODIFIED;TZID=America/New_York:20260213T155033
LOCATION: -   Oxford PA 19363
SEQUENCE:0
SUMMARY:Finance Committee Meeting
UID:919
URL:/common/modules/iCalendar/iCalendar.aspx?feed=calendar&catID=14
END:VEVENT
BEGIN:VEVENT
DESCRIPTION: https://www.oxfordboro.org/calendar.aspx?EID=938
DTEND;TZID=America/New_York:20260812T235900
DTSTAMP;TZID=America/New_York:20260311T145403
DTSTART;TZID=America/New_York:20260812T160000
LAST-MODIFIED;TZID=America/New_York:20260311T145403
LOCATION: -   Oxford PA 19363
SEQUENCE:0
SUMMARY:Historical Architectural Review Board (HARB)
UID:938
URL:/common/modules/iCalendar/iCalendar.aspx?feed=calendar&catID=14
END:VEVENT
BEGIN:VEVENT
DESCRIPTION: https://www.oxfordboro.org/calendar.aspx?EID=895
DTEND;TZID=America/New_York:20260810T235900
DTSTAMP;TZID=America/New_York:20260211T165033
DTSTART;TZID=America/New_York:20260810T173000
LAST-MODIFIED;TZID=America/New_York:20260211T165033
LOCATION: -   Oxford PA 19363
SEQUENCE:0
SUMMARY:Parking Committee
UID:895
URL:/common/modules/iCalendar/iCalendar.aspx?feed=calendar&catID=14
END:VEVENT
BEGIN:VEVENT
DESCRIPTION: https://www.oxfordboro.org/calendar.aspx?EID=874
DTEND;TZID=America/New_York:20260803T235900
DTSTAMP;TZID=America/New_York:20260211T164735
DTSTART;TZID=America/New_York:20260803T190000
LAST-MODIFIED;TZID=America/New_York:20260211T164735
LOCATION: -   Oxford PA 19363
SEQUENCE:0
SUMMARY:Borough Council Meeting
UID:874
URL:/common/modules/iCalendar/iCalendar.aspx?feed=calendar&catID=14
END:VEVENT
BEGIN:VEVENT
DESCRIPTION: https://www.oxfordboro.org/calendar.aspx?EID=886
DTEND;TZID=America/New_York:20260803T235900
DTSTAMP;TZID=America/New_York:20260211T164950
DTSTART;TZID=America/New_York:20260803T180000
LAST-MODIFIED;TZID=America/New_York:20260211T164950
LOCATION: -   Oxford PA 19363
SEQUENCE:0
SUMMARY:Police & Public Safety Committee
UID:886
URL:/common/modules/iCalendar/iCalendar.aspx?feed=calendar&catID=14
END:VEVENT
BEGIN:VEVENT
DESCRIPTION: https://www.oxfordboro.org/calendar.aspx?EID=860
DTEND;TZID=America/New_York:20260728T235900
DTSTAMP;TZID=America/New_York:20260123T183905
DTSTART;TZID=America/New_York:20260728T183000
LAST-MODIFIED;TZID=America/New_York:20260123T183905
LOCATION: -   Oxford PA 19363
SEQUENCE:0
SUMMARY:Planning Commission
UID:860
URL:/common/modules/iCalendar/iCalendar.aspx?feed=calendar&catID=14
END:VEVENT
BEGIN:VEVENT
DESCRIPTION: https://www.oxfordboro.org/calendar.aspx?EID=905
DTEND;TZID=America/New_York:20260727T235900
DTSTAMP;TZID=America/New_York:20260211T165118
DTSTART;TZID=America/New_York:20260727T173000
LAST-MODIFIED;TZID=America/New_York:20260211T165118
LOCATION: -   Oxford PA 19363
SEQUENCE:0
SUMMARY:Parking Committee
UID:905
URL:/common/modules/iCalendar/iCalendar.aspx?feed=calendar&catID=14
END:VEVENT
BEGIN:VEVENT
DESCRIPTION: https://www.oxfordboro.org/calendar.aspx?EID=879
DTEND;TZID=America/New_York:20260720T235900
DTSTAMP;TZID=America/New_York:20260211T164817
DTSTART;TZID=America/New_York:20260720T190000
LAST-MODIFIED;TZID=America/New_York:20260211T164817
LOCATION: -   Oxford PA 19363
SEQUENCE:0
SUMMARY:Borough Council Meeting
UID:879
URL:/common/modules/iCalendar/iCalendar.aspx?feed=calendar&catID=14
END:VEVENT
BEGIN:VEVENT
DESCRIPTION: https://www.oxfordboro.org/calendar.aspx?EID=894
DTEND;TZID=America/New_York:20260713T235900
DTSTAMP;TZID=America/New_York:20260211T165033
DTSTART;TZID=America/New_York:20260713T173000
LAST-MODIFIED;TZID=America/New_York:20260211T165033
LOCATION: -   Oxford PA 19363
SEQUENCE:0
SUMMARY:Parking Committee
UID:894
URL:/common/modules/iCalendar/iCalendar.aspx?feed=calendar&catID=14
END:VEVENT
BEGIN:VEVENT
DESCRIPTION: https://www.oxfordboro.org/calendar.aspx?EID=918
DTEND;TZID=America/New_York:20260708T235900
DTSTAMP;TZID=America/New_York:20260213T155008
DTSTART;TZID=America/New_York:20260708T190000
LAST-MODIFIED;TZID=America/New_York:20260213T155008
LOCATION: -   Oxford PA 19363
SEQUENCE:0
SUMMARY:Finance Committee Meeting
UID:918
URL:/common/modules/iCalendar/iCalendar.aspx?feed=calendar&catID=14
END:VEVENT
BEGIN:VEVENT
DESCRIPTION: https://www.oxfordboro.org/calendar.aspx?EID=937
DTEND;TZID=America/New_York:20260708T235900
DTSTAMP;TZID=America/New_York:20260311T145403
DTSTART;TZID=America/New_York:20260708T160000
LAST-MODIFIED;TZID=America/New_York:20260311T145403
LOCATION: -   Oxford PA 19363
SEQUENCE:0
SUMMARY:Historical Architectural Review Board (HARB)
UID:937
URL:/common/modules/iCalendar/iCalendar.aspx?feed=calendar&catID=14
END:VEVENT
BEGIN:VEVENT
DESCRIPTION: https://www.oxfordboro.org/calendar.aspx?EID=873
DTEND;TZID=America/New_York:20260706T235900
DTSTAMP;TZID=America/New_York:20260211T164735
DTSTART;TZID=America/New_York:20260706T190000
LAST-MODIFIED;TZID=America/New_York:20260211T164735
LOCATION: -   Oxford PA 19363
SEQUENCE:0
SUMMARY:Borough Council Meeting
UID:873
URL:/common/modules/iCalendar/iCalendar.aspx?feed=calendar&catID=14
END:VEVENT
BEGIN:VEVENT
DESCRIPTION: https://www.oxfordboro.org/calendar.aspx?EID=885
DTEND;TZID=America/New_York:20260706T235900
DTSTAMP;TZID=America/New_York:20260211T164950
DTSTART;TZID=America/New_York:20260706T180000
LAST-MODIFIED;TZID=America/New_York:20260211T164950
LOCATION: -   Oxford PA 19363
SEQUENCE:0
SUMMARY:Police & Public Safety Committee
UID:885
URL:/common/modules/iCalendar/iCalendar.aspx?feed=calendar&catID=14
END:VEVENT
BEGIN:VEVENT
DESCRIPTION: https://www.oxfordboro.org/calendar.aspx?EID=859
DTEND;TZID=America/New_York:20260623T235900
DTSTAMP;TZID=America/New_York:20260123T183905
DTSTART;TZID=America/New_York:20260623T183000
LAST-MODIFIED;TZID=America/New_York:20260123T183905
LOCATION: -   Oxford PA 19363
SEQUENCE:0
SUMMARY:Planning Commission
UID:859
URL:/common/modules/iCalendar/iCalendar.aspx?feed=calendar&catID=14
END:VEVENT
BEGIN:VEVENT
DESCRIPTION: https://www.oxfordboro.org/calendar.aspx?EID=904
DTEND;TZID=America/New_York:20260622T235900
DTSTAMP;TZID=America/New_York:20260211T165118
DTSTART;TZID=America/New_York:20260622T173000
LAST-MODIFIED;TZID=America/New_York:20260211T165118
LOCATION: -   Oxford PA 19363
SEQUENCE:0
SUMMARY:Parking Committee
UID:904
URL:/common/modules/iCalendar/iCalendar.aspx?feed=calendar&catID=14
END:VEVENT
BEGIN:VEVENT
DESCRIPTION: https://www.oxfordboro.org/calendar.aspx?EID=878
DTEND;TZID=America/New_York:20260615T235900
DTSTAMP;TZID=America/New_York:20260211T164817
DTSTART;TZID=America/New_York:20260615T190000
LAST-MODIFIED;TZID=America/New_York:20260211T164817
LOCATION: -   Oxford PA 19363
SEQUENCE:0
SUMMARY:Borough Council Meeting
UID:878
URL:/common/modules/iCalendar/iCalendar.aspx?feed=calendar&catID=14
END:VEVENT
BEGIN:VEVENT
DESCRIPTION: https://www.oxfordboro.org/calendar.aspx?EID=917
DTEND;TZID=America/New_York:20260610T235900
DTSTAMP;TZID=America/New_York:20260213T154944
DTSTART;TZID=America/New_York:20260610T190000
LAST-MODIFIED;TZID=America/New_York:20260213T154944
LOCATION: -   Oxford PA 19363
SEQUENCE:0
SUMMARY:Finance Committee Meeting
UID:917
URL:/common/modules/iCalendar/iCalendar.aspx?feed=calendar&catID=14
END:VEVENT
BEGIN:VEVENT
DESCRIPTION: https://www.oxfordboro.org/calendar.aspx?EID=936
DTEND;TZID=America/New_York:20260610T235900
DTSTAMP;TZID=America/New_York:20260311T145403
DTSTART;TZID=America/New_York:20260610T160000
LAST-MODIFIED;TZID=America/New_York:20260311T145403
LOCATION: -   Oxford PA 19363
SEQUENCE:0
SUMMARY:Historical Architectural Review Board (HARB)
UID:936
URL:/common/modules/iCalendar/iCalendar.aspx?feed=calendar&catID=14
END:VEVENT
BEGIN:VEVENT
DESCRIPTION: https://www.oxfordboro.org/calendar.aspx?EID=893
DTEND;TZID=America/New_York:20260608T235900
DTSTAMP;TZID=America/New_York:20260211T165033
DTSTART;TZID=America/New_York:20260608T173000
LAST-MODIFIED;TZID=America/New_York:20260211T165033
LOCATION: -   Oxford PA 19363
SEQUENCE:0
SUMMARY:Parking Committee
UID:893
URL:/common/modules/iCalendar/iCalendar.aspx?feed=calendar&catID=14
END:VEVENT
BEGIN:VEVENT
DESCRIPTION: https://www.oxfordboro.org/calendar.aspx?EID=872
DTEND;TZID=America/New_York:20260601T235900
DTSTAMP;TZID=America/New_York:20260211T164735
DTSTART;TZID=America/New_York:20260601T190000
LAST-MODIFIED;TZID=America/New_York:20260211T164735
LOCATION: -   Oxford PA 19363
SEQUENCE:0
SUMMARY:Borough Council Meeting
UID:872
URL:/common/modules/iCalendar/iCalendar.aspx?feed=calendar&catID=14
END:VEVENT
BEGIN:VEVENT
DESCRIPTION: https://www.oxfordboro.org/calendar.aspx?EID=884
DTEND;TZID=America/New_York:20260601T235900
DTSTAMP;TZID=America/New_York:20260211T164950
DTSTART;TZID=America/New_York:20260601T180000
LAST-MODIFIED;TZID=America/New_York:20260211T164950
LOCATION: -   Oxford PA 19363
SEQUENCE:0
SUMMARY:Police & Public Safety Committee
UID:884
URL:/common/modules/iCalendar/iCalendar.aspx?feed=calendar&catID=14
END:VEVENT
BEGIN:VEVENT
DESCRIPTION: https://www.oxfordboro.org/calendar.aspx?EID=858
DTEND;TZID=America/New_York:20260526T235900
DTSTAMP;TZID=America/New_York:20260123T183905
DTSTART;TZID=America/New_York:20260526T183000
LAST-MODIFIED;TZID=America/New_York:20260123T183905
LOCATION: -   Oxford PA 19363
SEQUENCE:0
SUMMARY:Planning Commission
UID:858
URL:/common/modules/iCalendar/iCalendar.aspx?feed=calendar&catID=14
END:VEVENT
BEGIN:VEVENT
DESCRIPTION: https://www.oxfordboro.org/calendar.aspx?EID=903
DTEND;TZID=America/New_York:20260525T235900
DTSTAMP;TZID=America/New_York:20260211T165118
DTSTART;TZID=America/New_York:20260525T173000
LAST-MODIFIED;TZID=America/New_York:20260211T165118
LOCATION: -   Oxford PA 19363
SEQUENCE:0
SUMMARY:Parking Committee
UID:903
URL:/common/modules/iCalendar/iCalendar.aspx?feed=calendar&catID=14
END:VEVENT
BEGIN:VEVENT
DESCRIPTION: https://www.oxfordboro.org/calendar.aspx?EID=877
DTEND;TZID=America/New_York:20260518T235900
DTSTAMP;TZID=America/New_York:20260211T164817
DTSTART;TZID=America/New_York:20260518T190000
LAST-MODIFIED;TZID=America/New_York:20260211T164817
LOCATION: -   Oxford PA 19363
SEQUENCE:0
SUMMARY:Borough Council Meeting
UID:877
URL:/common/modules/iCalendar/iCalendar.aspx?feed=calendar&catID=14
END:VEVENT
BEGIN:VEVENT
DESCRIPTION: https://www.oxfordboro.org/calendar.aspx?EID=915
DTEND;TZID=America/New_York:20260513T235900
DTSTAMP;TZID=America/New_York:20260213T154854
DTSTART;TZID=America/New_York:20260513T190000
LAST-MODIFIED;TZID=America/New_York:20260213T154854
LOCATION: -   Oxford PA 19363
SEQUENCE:0
SUMMARY:Finance Committee Meeting
UID:915
URL:/common/modules/iCalendar/iCalendar.aspx?feed=calendar&catID=14
END:VEVENT
BEGIN:VEVENT
DESCRIPTION: https://www.oxfordboro.org/calendar.aspx?EID=935
DTEND;TZID=America/New_York:20260513T235900
DTSTAMP;TZID=America/New_York:20260311T145403
DTSTART;TZID=America/New_York:20260513T160000
LAST-MODIFIED;TZID=America/New_York:20260311T145403
LOCATION: -   Oxford PA 19363
SEQUENCE:0
SUMMARY:Historical Architectural Review Board (HARB)
UID:935
URL:/common/modules/iCalendar/iCalendar.aspx?feed=calendar&catID=14
END:VEVENT
BEGIN:VEVENT
DESCRIPTION: https://www.oxfordboro.org/calendar.aspx?EID=892
DTEND;TZID=America/New_York:20260511T235900
DTSTAMP;TZID=America/New_York:20260211T165033
DTSTART;TZID=America/New_York:20260511T173000
LAST-MODIFIED;TZID=America/New_York:20260211T165033
LOCATION: -   Oxford PA 19363
SEQUENCE:0
SUMMARY:Parking Committee
UID:892
URL:/common/modules/iCalendar/iCalendar.aspx?feed=calendar&catID=14
END:VEVENT
BEGIN:VEVENT
DESCRIPTION: https://www.oxfordboro.org/calendar.aspx?EID=871
DTEND;TZID=America/New_York:20260504T235900
DTSTAMP;TZID=America/New_York:20260211T164735
DTSTART;TZID=America/New_York:20260504T190000
LAST-MODIFIED;TZID=America/New_York:20260211T164735
LOCATION: -   Oxford PA 19363
SEQUENCE:0
SUMMARY:Borough Council Meeting
UID:871
URL:/common/modules/iCalendar/iCalendar.aspx?feed=calendar&catID=14
END:VEVENT
BEGIN:VEVENT
DESCRIPTION: https://www.oxfordboro.org/calendar.aspx?EID=883
DTEND;TZID=America/New_York:20260504T235900
DTSTAMP;TZID=America/New_York:20260211T164950
DTSTART;TZID=America/New_York:20260504T180000
LAST-MODIFIED;TZID=America/New_York:20260211T164950
LOCATION: -   Oxford PA 19363
SEQUENCE:0
SUMMARY:Police & Public Safety Committee
UID:883
URL:/common/modules/iCalendar/iCalendar.aspx?feed=calendar&catID=14
END:VEVENT
BEGIN:VEVENT
DESCRIPTION: https://www.oxfordboro.org/calendar.aspx?EID=857
DTEND;TZID=America/New_York:20260428T235900
DTSTAMP;TZID=America/New_York:20260123T183905
DTSTART;TZID=America/New_York:20260428T183000
LAST-MODIFIED;TZID=America/New_York:20260123T183905
LOCATION: -   Oxford PA 19363
SEQUENCE:0
SUMMARY:Planning Commission
UID:857
URL:/common/modules/iCalendar/iCalendar.aspx?feed=calendar&catID=14
END:VEVENT
BEGIN:VEVENT
DESCRIPTION: https://www.oxfordboro.org/calendar.aspx?EID=902
DTEND;TZID=America/New_York:20260427T235900
DTSTAMP;TZID=America/New_York:20260420T113731
DTSTART;TZID=America/New_York:20260427T173000
LAST-MODIFIED;TZID=America/New_York:20260420T113731
LOCATION: -   Oxford PA 19363
SEQUENCE:0
SUMMARY:Parking Committee - CANCELED
UID:902
URL:/common/modules/iCalendar/iCalendar.aspx?feed=calendar&catID=14
END:VEVENT
END:VCALENDAR
